BEGIN:VCALENDAR
VERSION:2.0
PRODID:-//Juvelize, village du Saulnois en Moselle//NONSGML kigkonsult.se iCalcreator 2.41.92//
CALSCALE:GREGORIAN
METHOD:PUBLISH
UID:66313033-3139-4230-b663-396335356161
X-WR-CALNAME:iCagenda
X-WR-CALDESC:Event Management Extension for Joomla!
X-WR-RELCALID:3E26604A-50F4-4449-8B3E-E4F4932D05B5
X-WR-TIMEZONE:Europe/Paris
BEGIN:VTIMEZONE
TZID:Europe/Paris
TZUNTIL:20271031T010000Z
BEGIN:STANDARD
TZNAME:CET
DTSTART:20251026T030000
TZOFFSETFROM:+0200
TZOFFSETTO:+0100
RDATE:20261025T030000
END:STANDARD
BEGIN:DAYLIGHT
TZNAME:CEST
DTSTART:20260329T020000
TZOFFSETFROM:+0100
TZOFFSETTO:+0200
RDATE:20270328T020000
END:DAYLIGHT
END:VTIMEZONE
BEGIN:VEVENT
UID:64623831-3836-4337-b637-393931623065
DTSTAMP:20260424T162401Z
CATEGORIES:Les Manifestations
CLASS:PUBLIC
DESCRIPTION;ALTREP="CID:<FFFF__=0ABBE548DFE235B58f9e8a93d@coffeebean.com>":
 Les ventes à quai sont des ventes exceptionnelles à notre usine de Munster
  où vous pouvez retrouver vos produits Lorina à un prix avantageux.\nLes p
 aiements se font en liquide\, par chèque ou par carte bancaire.\nAdresse :
  ETS GEYER FRERES - Lorina\, Route de Sarre-Union\, 57670 Munster\nProchai
 nes dates : 13 mars\, 27 mars\, 10 avril\, 24 avril\, 22 mai\, 5 juin\, 19
  juin
DTSTART:20260424T113000Z
DTEND:20260424T113000Z
GEO:+48.91547;+6.903708
LOCATION:ETS GEYER FRERES Route de Sarre-Union\, 57670 Munster
ORGANIZER:
SEQUENCE:1
SUMMARY:Vente à Quai chez Lorina à Munster
TRANSP:OPAQUE
URL:https://www.saulnois.juvelize.com/index.php/component/icagenda/848-vent
 e-a-quai-chez-lorina-a-munster/2026-04-24-13-30?layout=vcal
END:VEVENT
END:VCALENDAR
