BEGIN:VCALENDAR
VERSION:2.0
PRODID:-//Juvelize, village du Saulnois en Moselle//NONSGML kigkonsult.se iCalcreator 2.41.92//
CALSCALE:GREGORIAN
METHOD:PUBLISH
UID:61326564-3137-4734-b564-646635363862
X-WR-CALNAME:iCagenda
X-WR-CALDESC:Event Management Extension for Joomla!
X-WR-RELCALID:3E26604A-50F4-4449-8B3E-E4F4932D05B5
X-WR-TIMEZONE:Europe/Paris
BEGIN:VTIMEZONE
TZID:Europe/Paris
TZUNTIL:20271031T010000Z
BEGIN:STANDARD
TZNAME:CET
DTSTART:20251026T030000
TZOFFSETFROM:+0200
TZOFFSETTO:+0100
RDATE:20261025T030000
END:STANDARD
BEGIN:DAYLIGHT
TZNAME:CEST
DTSTART:20260329T020000
TZOFFSETFROM:+0100
TZOFFSETTO:+0200
RDATE:20270328T020000
END:DAYLIGHT
END:VTIMEZONE
BEGIN:VEVENT
UID:33363630-6635-4262-b336-663064643234
DTSTAMP:20260420T173656Z
CATEGORIES:Les Ateliers
CLASS:PUBLIC
DESCRIPTION;ALTREP="CID:<FFFF__=0ABBE548DFE235B58f9e8a93d@coffeebean.com>":
 Le prochain rendez-vous pour donner votre sang aura lieu au Centre St Exup
 éry de Delme.\nDe 15h30 à 19h30
DTSTART:20260420T133000Z
DTEND:20260420T133000Z
GEO:+48.886654;+6.39517
LOCATION:Centre St Exupéry de Delme.
ORGANIZER:
SEQUENCE:1
SUMMARY:Don du sang à Delme
TRANSP:OPAQUE
URL:https://www.saulnois.juvelize.com/index.php/component/icagenda/77-don-d
 u-sang-a-delme/2026-04-20-15-30
END:VEVENT
END:VCALENDAR
