BEGIN:VCALENDAR
VERSION:2.0
PRODID:-//Juvelize, village du Saulnois en Moselle//NONSGML kigkonsult.se iCalcreator 2.41.92//
CALSCALE:GREGORIAN
METHOD:PUBLISH
UID:61313931-3162-4638-a138-663132333734
X-WR-CALNAME:iCagenda
X-WR-CALDESC:Event Management Extension for Joomla!
X-WR-RELCALID:3E26604A-50F4-4449-8B3E-E4F4932D05B5
X-WR-TIMEZONE:Europe/Paris
BEGIN:VTIMEZONE
TZID:Europe/Paris
TZUNTIL:20280326T010000Z
BEGIN:STANDARD
TZNAME:CET
DTSTART:20251026T030000
TZOFFSETFROM:+0200
TZOFFSETTO:+0100
RDATE:20261025T030000
RDATE:20271031T030000
END:STANDARD
BEGIN:DAYLIGHT
TZNAME:CEST
DTSTART:20260329T020000
TZOFFSETFROM:+0100
TZOFFSETTO:+0200
RDATE:20270328T020000
END:DAYLIGHT
END:VTIMEZONE
BEGIN:VEVENT
UID:32323131-6435-4833-b338-653330306366
DTSTAMP:20260420T081351Z
CATEGORIES:Les Manifestations
CLASS:PUBLIC
DESCRIPTION;ALTREP="CID:<FFFF__=0ABBE548DFE235B58f9e8a93d@coffeebean.com>":
 &nbsp\;'Je ne stocke pas\, je collectionne... avant de revendre !'&nbsp\;O
 n se retrouve le vendredi 8 mai pour la Grande Brocante de Delme à la Sall
 e Saint Exupéry.L'occasion parfaite pour vider le garage ou remplir le sal
 on (on ne juge pas ! ).Mise en place dès 5h30.&nbsp\;Restauration sur plac
 e toute la journée.&nbsp\;Infos &amp\; Réservations :brocante.delme@gmail.
 com06.24.75.87.56&nbsp\;Partagez l'info et venez nombreux !
DTSTART:20260508T033000Z
DTEND:20260508T033000Z
GEO:+48.886955;+6.393693
LOCATION:Salle Saint Exupéry Delme
ORGANIZER;CN=:mailto:brocante.delme@gmail.com
SEQUENCE:1
SUMMARY:Grande Brocante à Delme
TRANSP:OPAQUE
URL:https://www.saulnois.juvelize.com/index.php/choisir-sa-sortie/les-manif
 estations/972-grande-brocante-a-delme/2026-05-08-05-30
END:VEVENT
END:VCALENDAR
