BEGIN:VCALENDAR
VERSION:2.0
PRODID:-//Juvelize, village du Saulnois en Moselle//NONSGML kigkonsult.se iCalcreator 2.41.92//
CALSCALE:GREGORIAN
METHOD:PUBLISH
UID:39623033-3934-4332-b362-353939303535
X-WR-CALNAME:iCagenda
X-WR-CALDESC:Event Management Extension for Joomla!
X-WR-RELCALID:3E26604A-50F4-4449-8B3E-E4F4932D05B5
X-WR-TIMEZONE:Europe/Paris
BEGIN:VTIMEZONE
TZID:Europe/Paris
TZUNTIL:20271031T010000Z
BEGIN:STANDARD
TZNAME:CET
DTSTART:20251026T030000
TZOFFSETFROM:+0200
TZOFFSETTO:+0100
RDATE:20261025T030000
END:STANDARD
BEGIN:DAYLIGHT
TZNAME:CEST
DTSTART:20260329T020000
TZOFFSETFROM:+0100
TZOFFSETTO:+0200
RDATE:20270328T020000
END:DAYLIGHT
END:VTIMEZONE
BEGIN:VEVENT
UID:61613331-3238-4261-a566-393737353265
DTSTAMP:20260420T081118Z
CATEGORIES:Les Manifestations
CLASS:PUBLIC
DESCRIPTION;ALTREP="CID:<FFFF__=0ABBE548DFE235B58f9e8a93d@coffeebean.com>":
 Nous avons le plaisir de vous inviter à l’inauguration de L’Atelier de Val
 phi\, la maison des producteurs et artisans locaux\, ainsi que de la socié
 té Philformation !\n Rendez-vous le 24 avril à 17h\n 2 rue du Général de G
 aulle\nVenez découvrir un lieu unique mettant à l’honneur le savoir-faire 
 local\, et rencontrer des passionnés :\n Les tisanes du Saulnois\n Les sab
 lés de L’Aventurière du Sablé Royal\n Les créations de Badette\n Les bougi
 es de Lueur du Soir\n Le miel du Rucher de Pévange\n Les bijoux Idéale’Ecl
 ats\n Les vitraux Iclarkrav\n L’association Astrologie Lorraine\n En parte
 nariat avec la couturière de Dieuze : Mercerie 3 p’tits points\nUn moment 
 convivial à partager\, placé sous le signe de la découverte et du soutien 
 aux talents locaux !\n Nous vous attendons nombreux pour célébrer cette be
 lle ouverture !
DTSTART:20260424T150000Z
DTEND:20260424T150000Z
GEO:+48.824371;+6.502438
LOCATION:Maison des producteurs et artisans locaux
ORGANIZER:
SEQUENCE:1
SUMMARY:Inauguration – L’Atelier de Valphi & Philformation à Château-Salins
TRANSP:OPAQUE
URL:https://www.saulnois.juvelize.com/index.php/choisir-sa-sortie/les-manif
 estations/966-inauguration-latelier-de-valphi-philformation-a-chateau-sali
 ns/2026-04-24-17-00
END:VEVENT
END:VCALENDAR
