BEGIN:VCALENDAR
VERSION:2.0
PRODID:-//Juvelize, village du Saulnois en Moselle//NONSGML kigkonsult.se iCalcreator 2.41.92//
CALSCALE:GREGORIAN
METHOD:PUBLISH
UID:32393361-6230-4232-b262-646438363130
X-WR-CALNAME:iCagenda
X-WR-CALDESC:Event Management Extension for Joomla!
X-WR-RELCALID:3E26604A-50F4-4449-8B3E-E4F4932D05B5
X-WR-TIMEZONE:Europe/Paris
BEGIN:VTIMEZONE
TZID:Europe/Paris
TZUNTIL:20280326T010000Z
BEGIN:STANDARD
TZNAME:CET
DTSTART:20251026T030000
TZOFFSETFROM:+0200
TZOFFSETTO:+0100
RDATE:20261025T030000
RDATE:20271031T030000
END:STANDARD
BEGIN:DAYLIGHT
TZNAME:CEST
DTSTART:20260329T020000
TZOFFSETFROM:+0100
TZOFFSETTO:+0200
RDATE:20270328T020000
END:DAYLIGHT
END:VTIMEZONE
BEGIN:VEVENT
UID:65636330-6262-4565-a330-323763626661
DTSTAMP:20260420T081915Z
CATEGORIES:Les Ateliers
CLASS:PUBLIC
DESCRIPTION;ALTREP="CID:<FFFF__=0ABBE548DFE235B58f9e8a93d@coffeebean.com>":
 Soirée thématique à destination des assistants maternels du Saulnois\n\nMo
 ment de convivialité à 19h\nAtelier détente à partir de 19h30\n\nInscripti
 on sur 06 26 74 03 71 ou rpe@cc-saulnois.fr\n&nbsp\;\n&nbsp\;
DTSTART:20260522T170000Z
DTEND:20260522T170000Z
GEO:+48.824627;+6.501204
LOCATION:Peri scolaire rue des Braisettes Château-Salins
ORGANIZER;CN=:mailto:rpe@cc-saulnois.fr
SEQUENCE:1
SUMMARY:Soirée Yoga & Détente à Château-Salins
TRANSP:OPAQUE
URL:https://www.saulnois.juvelize.com/index.php/choisir-sa-sortie/les-ateli
 ers/942-soiree-yoga-detente-a-chateau-salins/2026-05-22-19-00
END:VEVENT
END:VCALENDAR
