BEGIN:VCALENDAR
VERSION:2.0
PRODID:-//Juvelize, village du Saulnois en Moselle//NONSGML kigkonsult.se iCalcreator 2.41.92//
CALSCALE:GREGORIAN
METHOD:PUBLISH
UID:37313737-6238-4538-a463-346130646163
X-WR-CALNAME:iCagenda
X-WR-CALDESC:Event Management Extension for Joomla!
X-WR-RELCALID:3E26604A-50F4-4449-8B3E-E4F4932D05B5
X-WR-TIMEZONE:Europe/Paris
BEGIN:VTIMEZONE
TZID:Europe/Paris
TZUNTIL:20280326T010000Z
BEGIN:STANDARD
TZNAME:CET
DTSTART:20251026T030000
TZOFFSETFROM:+0200
TZOFFSETTO:+0100
RDATE:20261025T030000
RDATE:20271031T030000
END:STANDARD
BEGIN:DAYLIGHT
TZNAME:CEST
DTSTART:20260329T020000
TZOFFSETFROM:+0100
TZOFFSETTO:+0200
RDATE:20270328T020000
END:DAYLIGHT
END:VTIMEZONE
BEGIN:VEVENT
UID:62366138-3161-4238-b634-616163653138
DTSTAMP:20260420T081215Z
CATEGORIES:Les Ateliers
CLASS:PUBLIC
DESCRIPTION;ALTREP="CID:<FFFF__=0ABBE548DFE235B58f9e8a93d@coffeebean.com>":
 Laine et Sel : tissage d’Histoire\nLe Musée du Sel vous invite à venir déc
 ouvrir sa nouvelle manifestation culturelle et artisanale « Laine et Sel :
  tissage d’Histoire » les 16 et 17 mai 2026. Cet évènement unique met en l
 umière le lien insolite mais essentiel entre la laine\, le sel et l’univer
 s des moutons\, à travers une série d’ateliers\, de démonstrations et d’an
 imations interactives accessibles à tous.\n03 87 35 01 50\n16 et 17 mai 20
 26\n9h30-18 h\n&nbsp\;
DTSTART:20260516T073000Z
DTEND:20260517T160000Z
GEO:+48.788326;+6.605782
LOCATION:Musée du Sel  Porte de France Marsal
ORGANIZER;CN=:mailto:mdsm@moselle.fr
SEQUENCE:1
SUMMARY:Laine et Sel : tissage d’Histoire au Musée du Sel de Marsal
TRANSP:OPAQUE
URL:https://www.saulnois.juvelize.com/index.php/choisir-sa-sortie/les-ateli
 ers/938-laine-et-sel-tissage-dhistoire-au-musee-du-sel-de-marsal
END:VEVENT
END:VCALENDAR
